BEGIN:VCALENDAR
VERSION:2.0
PRODID:-//Gasthaus zur Dorfwirtin - ECPv5.5.0.1//NONSGML v1.0//EN
CALSCALE:GREGORIAN
METHOD:PUBLISH
X-WR-CALNAME:Gasthaus zur Dorfwirtin
X-ORIGINAL-URL:https://www.dorfwirtin.at
X-WR-CALDESC:Veranstaltungen für Gasthaus zur Dorfwirtin
BEGIN:VTIMEZONE
TZID:Europe/Vienna
BEGIN:DAYLIGHT
TZOFFSETFROM:+0100
TZOFFSETTO:+0200
TZNAME:CEST
DTSTART:20220327T010000
END:DAYLIGHT
BEGIN:STANDARD
TZOFFSETFROM:+0200
TZOFFSETTO:+0100
TZNAME:CET
DTSTART:20221030T010000
END:STANDARD
END:VTIMEZONE
BEGIN:VEVENT
DTSTART;TZID=Europe/Vienna:20220612T090000
DTEND;TZID=Europe/Vienna:20220612T110000
DTSTAMP:20260421T122137
CREATED:20220527T085346Z
LAST-MODIFIED:20220527T085346Z
UID:1384-1655024400-1655031600@www.dorfwirtin.at
SUMMARY:Vatertagsbrunch
DESCRIPTION:
URL:https://www.dorfwirtin.at/event/vatertagsbrunch/
LOCATION:Gasthaus zur Dorfwirtin
CATEGORIES:Gasthaus zur Dorfwirtin
END:VEVENT
BEGIN:VEVENT
DTSTART;TZID=Europe/Vienna:20220618T120000
DTEND;TZID=Europe/Vienna:20220618T200000
DTSTAMP:20260421T122137
CREATED:20220303T125105Z
LAST-MODIFIED:20220614T091926Z
UID:1327-1655553600-1655582400@www.dorfwirtin.at
SUMMARY:All you can eat Grillen mit Livemusik
DESCRIPTION:
URL:https://www.dorfwirtin.at/event/all-you-can-eat-grillen-mit-livemusik/
LOCATION:Gasthaus zur Dorfwirtin
CATEGORIES:Gasthaus zur Dorfwirtin
END:VEVENT
BEGIN:VEVENT
DTSTART;TZID=Europe/Vienna:20220701T160000
DTEND;TZID=Europe/Vienna:20220701T233000
DTSTAMP:20260421T122137
CREATED:20220620T133449Z
LAST-MODIFIED:20220620T133449Z
UID:1402-1656691200-1656718200@www.dorfwirtin.at
SUMMARY:Cocktailabend
DESCRIPTION:
URL:https://www.dorfwirtin.at/event/cocktailabend/
LOCATION:Gasthaus zur Dorfwirtin
CATEGORIES:Gasthaus zur Dorfwirtin
END:VEVENT
END:VCALENDAR