BEGIN:VCALENDAR
VERSION:2.0
PRODID:-//Gasthaus zur Dorfwirtin - ECPv5.5.0.1//NONSGML v1.0//EN
CALSCALE:GREGORIAN
METHOD:PUBLISH
X-WR-CALNAME:Gasthaus zur Dorfwirtin
X-ORIGINAL-URL:https://www.dorfwirtin.at
X-WR-CALDESC:Veranstaltungen für Gasthaus zur Dorfwirtin
BEGIN:VTIMEZONE
TZID:Europe/Vienna
BEGIN:DAYLIGHT
TZOFFSETFROM:+0100
TZOFFSETTO:+0200
TZNAME:CEST
DTSTART:20240331T010000
END:DAYLIGHT
BEGIN:STANDARD
TZOFFSETFROM:+0200
TZOFFSETTO:+0100
TZNAME:CET
DTSTART:20241027T010000
END:STANDARD
END:VTIMEZONE
BEGIN:VEVENT
DTSTART;TZID=Europe/Vienna:20240106T170000
DTEND;TZID=Europe/Vienna:20240106T170000
DTSTAMP:20260422T052143
CREATED:20240102T072705Z
LAST-MODIFIED:20240102T072705Z
UID:1748-1704560400-1704560400@www.dorfwirtin.at
SUMMARY:Preisschnapsen
DESCRIPTION:
URL:https://www.dorfwirtin.at/event/preisschnapsen-5/
LOCATION:Gasthaus zur Dorfwirtin
CATEGORIES:Gasthaus zur Dorfwirtin
END:VEVENT
END:VCALENDAR