BEGIN:VCALENDAR
VERSION:2.0
PRODID:-//Gasthaus zur Dorfwirtin - ECPv5.5.0.1//NONSGML v1.0//EN
CALSCALE:GREGORIAN
METHOD:PUBLISH
X-WR-CALNAME:Gasthaus zur Dorfwirtin
X-ORIGINAL-URL:https://www.dorfwirtin.at
X-WR-CALDESC:Veranstaltungen für Gasthaus zur Dorfwirtin
BEGIN:VTIMEZONE
TZID:Europe/Vienna
BEGIN:DAYLIGHT
TZOFFSETFROM:+0100
TZOFFSETTO:+0200
TZNAME:CEST
DTSTART:20200329T010000
END:DAYLIGHT
BEGIN:STANDARD
TZOFFSETFROM:+0200
TZOFFSETTO:+0100
TZNAME:CET
DTSTART:20201025T010000
END:STANDARD
END:VTIMEZONE
BEGIN:VEVENT
DTSTART;TZID=Europe/Vienna:20200816T100000
DTEND;TZID=Europe/Vienna:20200816T150000
DTSTAMP:20260421T135327
CREATED:20200615T130955Z
LAST-MODIFIED:20200621T210010Z
UID:948-1597572000-1597590000@www.dorfwirtin.at
SUMMARY:Frühshoppen mit den Legrus
DESCRIPTION:Wir grillen Würstel und Koteletts\n\nFür musikalische Unterhaltung sorgen die Legrus
URL:https://www.dorfwirtin.at/event/fruehshoppen-mit-den-legrus/
LOCATION:Gasthaus zur Dorfwirtin
CATEGORIES:Gasthaus zur Dorfwirtin
END:VEVENT
END:VCALENDAR