BEGIN:VCALENDAR
VERSION:2.0
PRODID:-//Gasthaus zur Dorfwirtin - ECPv5.5.0.1//NONSGML v1.0//EN
CALSCALE:GREGORIAN
METHOD:PUBLISH
X-WR-CALNAME:Gasthaus zur Dorfwirtin
X-ORIGINAL-URL:https://www.dorfwirtin.at
X-WR-CALDESC:Veranstaltungen für Gasthaus zur Dorfwirtin
BEGIN:VTIMEZONE
TZID:Europe/Vienna
BEGIN:DAYLIGHT
TZOFFSETFROM:+0100
TZOFFSETTO:+0200
TZNAME:CEST
DTSTART:20220327T010000
END:DAYLIGHT
BEGIN:STANDARD
TZOFFSETFROM:+0200
TZOFFSETTO:+0100
TZNAME:CET
DTSTART:20221030T010000
END:STANDARD
END:VTIMEZONE
BEGIN:VEVENT
DTSTART;TZID=Europe/Vienna:20220807T100000
DTEND;TZID=Europe/Vienna:20220807T210000
DTSTAMP:20260421T134702
CREATED:20220303T125237Z
LAST-MODIFIED:20220303T132109Z
UID:1331-1659866400-1659906000@www.dorfwirtin.at
SUMMARY:Frühschoppen mit Livemusik und Freibier
DESCRIPTION:
URL:https://www.dorfwirtin.at/event/fruehschoppen-mit-livemusik-und-freibier/
LOCATION:Gasthaus zur Dorfwirtin
CATEGORIES:Gasthaus zur Dorfwirtin
END:VEVENT
END:VCALENDAR