BEGIN:VCALENDAR
VERSION:2.0
PRODID:-//Gasthaus zur Dorfwirtin - ECPv5.5.0.1//NONSGML v1.0//EN
CALSCALE:GREGORIAN
METHOD:PUBLISH
X-WR-CALNAME:Gasthaus zur Dorfwirtin
X-ORIGINAL-URL:https://www.dorfwirtin.at
X-WR-CALDESC:Veranstaltungen für Gasthaus zur Dorfwirtin
BEGIN:VTIMEZONE
TZID:Europe/Vienna
BEGIN:DAYLIGHT
TZOFFSETFROM:+0100
TZOFFSETTO:+0200
TZNAME:CEST
DTSTART:20210328T010000
END:DAYLIGHT
BEGIN:STANDARD
TZOFFSETFROM:+0200
TZOFFSETTO:+0100
TZNAME:CET
DTSTART:20211031T010000
END:STANDARD
END:VTIMEZONE
BEGIN:VEVENT
DTSTART;TZID=Europe/Vienna:20210626T120000
DTEND;TZID=Europe/Vienna:20210626T190000
DTSTAMP:20260421T135118
CREATED:20201126T104430Z
LAST-MODIFIED:20210607T123330Z
UID:1015-1624708800-1624734000@www.dorfwirtin.at
SUMMARY:All you can eat Grillen
DESCRIPTION:
URL:https://www.dorfwirtin.at/event/all-you-can-eat-grillen/
CATEGORIES:Gasthaus zur Dorfwirtin
END:VEVENT
END:VCALENDAR